Workbook

Sheet 鑑（前期）
A1: 第１号様式
A2: 補 助 金 交 付 申 請 書
A3: 年 月 日
A4: 読 谷 村 長
A5: 伊波 篤 殿
C7: 所 在 地 読谷村字読谷××
C8: 申 請 人 名 称 ○○自治会
C9: 代表者氏名 比嘉 ×× 印
A11: 次のとおり申請します。
A12: １ 事 業 名 | B12: 年度自治会管理防犯灯電気料補助金（前期）事業
A13: ２ 施行場所 | B13: ○ ○ 地 内
A14: ３ 事 業 費 | B14: =E19 -> 66000
A15: ４ 計画概要 | B15: 月 | C15: ４月 | D15: ５月 | E15: ６月
B16: 金 額 | C16: =前期計算式!C12 -> 11000 | D16: =前期計算式!C24 -> 11000 | E16: =前期計算式!C37 -> 11000
B17: 灯 数 | C17: =前期計算式!B12 -> 200 | D17: =前期計算式!B24 -> 200 | E17: =前期計算式!B37 -> 200
B18: ７月 | C18: ８月 | D18: ９月 | E18: 合 計
B19: =前期計算式!H12 -> 11000 | C19: =前期計算式!H24 -> 11000 | D19: =前期計算式!H37 -> 11000 | E19: =前期計算式!B39 -> 66000
B20: =前期計算式!G12 -> 200 | C20: =前期計算式!G24 -> 200 | D20: =前期計算式!G37 -> 200 | E20: =前期計算式!G39 -> 1200
A21: ５．着手予定 | B21: 年４月１日
A22: 年 月 日
A23: ６．完成予定 | B23: 年９月30日
A24: 年 月 日
A25: ７．添付書類 | B25: 防犯灯電気料金 領収明細表（前期分）
A26: 適宜数字を入力してください。Excel互換ソフトでの動作保証はいたしかねます。

Sheet 前期計算式
A1: 防犯灯電気料金 領収明細表（前期分）
A2: ４月 | F2: ７月
A3: 単価 | B3: 灯数 | C3: 金額 | F3: 単価 | G3: 灯数 | H3: 金額
A4: 55 | B4: 200 | C4: =A4*B4 -> 11000 | F4: 55 | G4: 200 | H4: =F4*G4 -> 11000
C5: =A5*B5 -> 0 | H5: =F5*G5 -> 0
C6: =A6*B6 -> 0 | H6: =F6*G6 -> 0
C7: =A7*B7 -> 0 | H7: =F7*G7 -> 0
C8: =A8*B8 -> 0 | H8: =F8*G8 -> 0
C9: =A9*B9 -> 0 | H9: =F9*G9 -> 0
C10: =A10*B10 -> 0 | H10: =F10*G10 -> 0
C11: =A11*B11 -> 0 | H11: =F11*G11 -> 0
B12: =SUM(B4:B11) -> 200 | C12: =SUM(C4:C11) -> 11000 | G12: =SUM(G4:G11) -> 200 | H12: =SUM(H4:H11) -> 11000
A14: ５月 | F14: ８月
A15: 単価 | B15: 灯数 | C15: 金額 | F15: 単価 | G15: 灯数 | H15: 金額
A16: 55 | B16: 200 | C16: =A16*B16 -> 11000 | F16: 55 | G16: 200 | H16: =F16*G16 -> 11000
C17: =A17*B17 -> 0 | H17: =F17*G17 -> 0
C18: =A18*B18 -> 0 | H18: =F18*G18 -> 0
C19: =A19*B19 -> 0 | H19: =F19*G19 -> 0
C20: =A20*B20 -> 0 | H20: =F20*G20 -> 0
C21: =A21*B21 -> 0 | H21: =F21*G21 -> 0
C22: =A22*B22 -> 0 | H22: =F22*G22 -> 0
C23: =A23*B23 -> 0 | H23: =F23*G23 -> 0
B24: =SUM(B16:B23) -> 200 | C24: =SUM(C16:C23) -> 11000 | G24: =SUM(G16:G23) -> 200 | H24: =SUM(H16:H23) -> 11000
A26: ６月 | F26: ９月
A27: 単価 | B27: 灯数 | C27: 金額 | F27: 単価 | G27: 灯数 | H27: 金額
A28: 55 | B28: 200 | C28: =A28*B28 -> 11000 | F28: 55 | G28: 200 | H28: =F28*G28 -> 11000
C29: =A29*B29 -> 0 | H29: =F29*G29 -> 0
C30: =A30*B30 -> 0 | H30: =F30*G30 -> 0
C31: =A31*B31 -> 0 | H31: =F31*G31 -> 0
C32: =A32*B32 -> 0 | H32: =F32*G32 -> 0
C33: =A33*B33 -> 0 | H33: =F33*G33 -> 0
C34: =A34*B34 -> 0 | H34: =F34*G34 -> 0
C35: =A35*B35 -> 0 | H35: =F35*G35 -> 0
C36: =A36*B36 -> 0 | H36: =F36*G36 -> 0
B37: =SUM(B28:B36) -> 200 | C37: =SUM(C28:C36) -> 11000 | G37: =SUM(G28:G36) -> 200 | H37: =SUM(H28:H36) -> 11000
A39: 合計金額 | B39: =C12+C24+C37+H12+H24+H37 -> 66000 | D39: 円 | F39: 灯数 | G39: =B12+G12+B24+G24+B37+G37 -> 1200 | H39: 基

Sheet 鑑（後期）
A1: 第１号様式
A2: 補 助 金 交 付 申 請 書
A3: 年 月 日
A4: 読 谷 村 長
A5: 伊波 篤 殿
C7: 所 在 地 読谷村字読谷××
C8: 申 請 人 名 称 ○○自治会
C9: 代表者氏名 比嘉 ×× 印
A11: 次のとおり申請します。
A12: １ 事 業 名 | B12: 年度自治会管理防犯灯電気料補助金（後期）事業
A13: ２ 施行場所 | B13: ○○ 地 内
A14: ３ 事 業 費 | B14: =E19 -> 66000
A15: ４ 計画概要 | B15: 金額 月 | C15: １０月 | D15: １１月 | E15: １２月
B16: 金 額 | C16: =後期!E11 -> 11000 | D16: =後期!D24 -> 0 | E16: =後期!E35 -> 11000
B17: 灯 数 | C17: =後期!D11 -> 200 | D17: =後期!D23 -> 200 | E17: =後期!D35 -> 200
B18: １月 | C18: ２月 | D18: ３月 | E18: 合 計
B19: =後期!J11 -> 11000 | C19: =B19 -> 11000 | D19: =B19 -> 11000 | E19: =後期!I35 -> 66000
B20: =後期!I11 -> 200 | C20: =B20 -> 200 | D20: =B20 -> 200 | E20: =C17+D17+E17+B20+C20+D20 -> 1200
A21: ５．着手予定 | B21: 年１０月１日
A22: 年 月 日
A23: ６．完成予定 | B23: 年３月３１日
A24: 年 月 日
A25: ７．添付書類 | B25: 防犯灯電気料金 領収明細表（後期）

Sheet 後期
A1: 防犯灯電気料金 領収明細表（後期分）
C2: 単価 | D2: 灯数 | E2: 金額 | H2: 単価 | I2: 灯数 | J2: 金額
B3: 10月分 | C3: 55 | D3: 200 | E3: =C3*D3 -> 11000 | G3: 1月分 | H3: 55 | I3: 200 | J3: =H3*I3 -> 11000
E4: =C4*D4 -> 0 | J4: =H4*I4 -> 0
E5: =C5*D5 -> 0 | J5: =H5*I5 -> 0
E6: =C6*D6 -> 0 | J6: =H6*I6 -> 0
E7: =C7*D7 -> 0 | J7: =H7*I7 -> 0
E8: =C8*D8 -> 0 | J8: =H8*I8 -> 0
E9: =C9*D9 -> 0 | J9: =H9*I9 -> 0
E10: =C10*D10 -> 0 | J10: =H10*I10 -> 0
D11: =SUM(D3:D10) -> 200 | E11: =SUM(E3:E10) -> 11000 | I11: =SUM(I3:I10) -> 200 | J11: =SUM(J3:J10) -> 11000
C14: 単価 | D14: 灯数 | E14: 金額 | G14: ※2月分 3月分1月同額計上
B15: 11月分 | C15: 55 | D15: 200 | E15: =C15*D15 -> 11000
E16: =C16*D16 -> 0 | G16: 2月分 | I16: =J11 -> 11000 | K16: 円
E17: =C17*D17 -> 0
E18: =C18*D18 -> 0
E19: =C19*D19 -> 0
E20: =C20*D20 -> 0
E21: =C21*D21 -> 0
E22: =C22*D22 -> 0
D23: =SUM(D15:D22) -> 200 | E23: =SUM(E15:E22) -> 11000
C26: 単価 | D26: 灯数 | E26: 金額
B27: 12月分 | C27: 55 | D27: 200 | E27: =C27*D27 -> 11000 | G27: ３月分 | I27: =J11 -> 11000 | K27: 円
E28: =C28*D28 -> 0
E29: =C29*D29 -> 0
E30: =C30*D30 -> 0
E31: =C31*D31 -> 0
E32: =C32*D32 -> 0
E33: =C33*D33 -> 0
E34: =C34*D34 -> 0
D35: =SUM(D27:D34) -> 200 | E35: =SUM(E27:E34) -> 11000 | G35: 合計金額 | I35: =E11+E23+E35+(J11*3) -> 66000 | K35: 円
